BEGIN:VCALENDAR
VERSION:2.0
PRODID:-//rooster/egg//NONSGML v1.0//EN
BEGIN:VTIMEZONE
TZID:Pacific/Auckland
TZURL:http://tzurl.org/zoneinfo-outlook/Pacific/Auckland
X-LIC-LOCATION:Pacific/Auckland
BEGIN:DAYLIGHT
TZOFFSETFROM:+1200
TZOFFSETTO:+1300
TZNAME:NZDT
DTSTART:19700927T020000
RRULE:FREQ=YEARLY;BYMONTH=9;BYDAY=-1SU
END:DAYLIGHT
BEGIN:STANDARD
TZOFFSETFROM:+1300
TZOFFSETTO:+1200
TZNAME:NZST
DTSTART:19700405T030000
RRULE:FREQ=YEARLY;BYMONTH=4;BYDAY=1SU
END:STANDARD
END:VTIMEZONE
BEGIN:VEVENT
ORGANIZER:Cathy Williams:mailto:events@griefcentre.org.nz
DTSTART:20210223T130000
DTEND:20260408T150000
LOCATION:Online (New Zealand)
SEQUENCE:0
UID:aba78d0213879f3ae6a9f4f3490380a7griefcentre.org.nz
DTSTAMP:20260419T121600Z
DESCRIPTION:WHO SHOULD DO THIS COURSE?\n\nAnyone who works in a professional care role or supports people\nthrough all forms of grief and loss e.g. Social Workers, Teachers,\nCounsellors, Doctors, EMT, Corrections, Mental Health, Hospice,\nVolunteers, Aged-care teams etc.\n\nOVERVIEW\n\nThis self-paced online course was designed for professionals in care\nand support roles who work with clients or staff who may be facing a\ndifficult life situation, significant change, or any form of loss or\ngrief.\n\nKEY LEARNING POINTS\n\nWe have grouped this course into 4 modules:\n\n1. THE IMPACT OF DIFFICULT LIFE SITUATIONS\n\n 	*\nThe nature and impact of difficult life situations, change, loss and\ngrief\n\n 	*\nCommon reactions that occur and influencing factors\n\n 	*\nWays to cope - helpful and unhelpful\n\n2. WHAT DOES &#39;GOOD SUPPORT&#39; MEAN?\n\n 	*\nWhat support can you offer?\n\n 	*\nSupport needs that people have\n\n 	*\nIdentify support priorities\n\n3. PROVIDING GOOD SUPPORT\n\n 	*\nEmpathy versus sympathy and listening and empathy skills\n\n 	*\nHandling difficult conversations and being with a crying, anxious or\nangry person\n\n 	*\nWhen reactions are delayed or complicated\n\n 	*\nRespecting boundaries and accessing extra support\n\n4. STRATEGIES FOR SELF-CARE\n\n 	*\nStrategies for self-care as you support others - working sustainably\n\nCOURSE DETAILS\n\nAt the end of each module, there will be a checkpoint with\nmultiple-choice questions that reflect the work you complete in the\ncorresponding section.  To progress and complete the course you must\nanswer these questions correctly.\n\nOn average, we find most people take 5 hours to complete this course.\nThis may include taking time out for reflection and discussion.\n\n_Purchasing this course will give you access to the online course for\n12 months to complete at your own pace.\nIf you wish to do a refresher again at a later date you can do so at\na discounted rate. Please contact events@griefcentre.org.nz to\ndiscuss._\n\nCOURSE FEEDBACK\n\n_"I am working through this course and am finding it excellent and\nvery informative. I am sure it will be very useful in my work life\nsupporting families, but also in my personal life."_\n\n_"Really easy course to follow and learn from, full of great\ninformation, further reading and the videos and article links were\nfantastic. Super happy available for 12 months as this is a great\nresource to revisit"_\n\n_"I liked how unique your training was. I also liked the mix of\nformats and resources"_\n\n_"A very valuable course, I believe it should be 101 for all funeral\nindustry staff” -Robert Nelson., Nelson Funerals_\n\n_\n*Score as of April 2025_\n\nCERTIFICATE OF ACCOMPLISHMENT\n\nWhen you complete this online course, you will receive a certificate\nautomatically. The certificate will state 5 hours of course time. The\nrequirement for receiving a certificate to confirm professional\ndevelopment is as follows:\n\n 	* You must view 100% of each training page\n 	* You must pass checkpoints after each module\n\nCPD POINTS/CREDITS\n\nWe are _ACCREDITED_ to provide points/credits to the following\nOrganisations, Educational Institutes, and Associations:\n\nNEW ZEALAND\nFDANZ [https://funeraldirectors.co.nz/]\nNZEA [https://nzembalmers.org.nz/]\nNZFIH\n\nAUSTRALIA\nAROH\n\nOur training is _ENDORSED OR RECOMMENDED _by the following\nOrganisations, Educational Institutes, and Associations:\n\nNEW ZEALAND\n\nNZAC [https://www.nzac.org.nz/]\nDAPAANZ [https://dapaanz.org.nz/]\nCANZ [https://www.celebrantsaotearoa.co.nz/]\nNZSDRT [https://diversionaltherapy.net.nz/]\nThe CPD Group\n\nAUSTRALIA\nACWA [https://www.acwa.org.au/]\nACA (Australian Counselling Association [https://theaca.net.au/])\n\nTo receive your CPD points/credits, you will need to receive a\ncertificate of accomplishment which you can then provide to your\nrelevant institution.\n\n - events@griefcentre.org.nz - https://book.griefcentre.org.nz/Difference-1
SUMMARY:Making the Difference
END:VEVENT
END:VCALENDAR